BEGIN:VCALENDAR
VERSION:2.0
PRODID:-//GVG Grenchen - ECPv6.0.5//NONSGML v1.0//EN
CALSCALE:GREGORIAN
METHOD:PUBLISH
X-WR-CALNAME:GVG Grenchen
X-ORIGINAL-URL:https://gvg-grenchen.ch
X-WR-CALDESC:Veranstaltungen für GVG Grenchen
REFRESH-INTERVAL;VALUE=DURATION:PT1H
X-Robots-Tag:noindex
X-PUBLISHED-TTL:PT1H
BEGIN:VTIMEZONE
TZID:Europe/Berlin
BEGIN:DAYLIGHT
TZOFFSETFROM:+0100
TZOFFSETTO:+0200
TZNAME:CEST
DTSTART:20250330T010000
END:DAYLIGHT
BEGIN:STANDARD
TZOFFSETFROM:+0200
TZOFFSETTO:+0100
TZNAME:CET
DTSTART:20251026T010000
END:STANDARD
END:VTIMEZONE
BEGIN:VEVENT
DTSTART;TZID=Europe/Berlin:20251214T110000
DTEND;TZID=Europe/Berlin:20251214T170000
DTSTAMP:20260425T212211
CREATED:20250329T141747Z
LAST-MODIFIED:20251129T131159Z
UID:22456-1765710000-1765731600@gvg-grenchen.ch
SUMMARY:Grenchner Sonntagsverkäufe vom 14. und 21. Dezember
DESCRIPTION:Auch dieses Jahr dürfen sich die Bewohnerinnen und Bewohner der Jurasonnenseite auf zwei festliche Grenchner Sonntagsverkäufe am 14. und 21. Dezember freuen. \nAm 14. Dezember öffnen die Geschäfte ihre Türen und der traditionelle Grenchner Weihnachtsmarkt sorgt mit seinen Ständen und Lichtern für stimmungsvolle Adventsatmosphäre. \nAm 21. Dezember wird das Stadtdach erneut zum Mittelpunkt des Geschehens. Der Gewerbeverband verwöhnt die Besucherinnen und Besucher mit einem kulinarischen Angebot: Dieses Jahr gibt es hausgemachte Suppe\, Wienerli und Schlangenbrot\, dazu Bier oder wärmenden Punsch. Für musikalische Unterhaltung ist ebenfalls gesorgt\, stimmungsvolle Klänge begleiten den gemütlichen Adventssonntag. \nDie diesjährige Schnitzeljagd „Sternenzauber“ lädt Gross und Klein zum Mitmachen ein: Wer die versteckten Sterne findet und das Lösungswort herausbekommt\, hat die Chance auf GVG-Gutscheine im Wert von 550 Franken. \nWir freuen uns auf viele schöne Begegnungen und wünschen eine wundervolle Adventszeit! \n  \n \n  \n  \nImpressionen der Grenchner Sonntagsverkäufe 2024: \nGrenchner Sonntagsverkäufe vom 15. und 22. Dezember
URL:https://gvg-grenchen.ch/veranstaltung/grenchner-sonntagsverkaeufe-2025/
CATEGORIES:Mitgliederanlass
END:VEVENT
END:VCALENDAR