BEGIN:VCALENDAR
VERSION:2.0
PRODID:-//GVG Grenchen - ECPv6.0.5//NONSGML v1.0//EN
CALSCALE:GREGORIAN
METHOD:PUBLISH
X-ORIGINAL-URL:https://gvg-grenchen.ch
X-WR-CALDESC:Veranstaltungen für GVG Grenchen
REFRESH-INTERVAL;VALUE=DURATION:PT1H
X-Robots-Tag:noindex
X-PUBLISHED-TTL:PT1H
BEGIN:VTIMEZONE
TZID:Europe/Berlin
BEGIN:DAYLIGHT
TZOFFSETFROM:+0100
TZOFFSETTO:+0200
TZNAME:CEST
DTSTART:20250330T010000
END:DAYLIGHT
BEGIN:STANDARD
TZOFFSETFROM:+0200
TZOFFSETTO:+0100
TZNAME:CET
DTSTART:20251026T010000
END:STANDARD
END:VTIMEZONE
BEGIN:VEVENT
DTSTART;TZID=Europe/Berlin:20251106T190000
DTEND;TZID=Europe/Berlin:20251106T210000
DTSTAMP:20260426T004839
CREATED:20250329T141438Z
LAST-MODIFIED:20251104T200838Z
UID:22454-1762455600-1762462800@gvg-grenchen.ch
SUMMARY:Wirtschaftsforum
DESCRIPTION:  \n[button title=”Hier geh’ts zum Flyer mit allen Informationen” link=”https://gvg-grenchen.ch/wp-content/uploads/Flyer-IHVG-Wirtschaftsforum.pdf” icon=”steadysets-icon-type” align=”center”]
URL:https://gvg-grenchen.ch/veranstaltung/wirtschaftsforum-2025/
CATEGORIES:Wirtschaftsforum
END:VEVENT
END:VCALENDAR