BEGIN:VCALENDAR
VERSION:2.0
PRODID:-//GVG Grenchen - ECPv6.0.5//NONSGML v1.0//EN
CALSCALE:GREGORIAN
METHOD:PUBLISH
X-WR-CALNAME:GVG Grenchen
X-ORIGINAL-URL:https://gvg-grenchen.ch
X-WR-CALDESC:Veranstaltungen für GVG Grenchen
REFRESH-INTERVAL;VALUE=DURATION:PT1H
X-Robots-Tag:noindex
X-PUBLISHED-TTL:PT1H
BEGIN:VTIMEZONE
TZID:Europe/Berlin
BEGIN:DAYLIGHT
TZOFFSETFROM:+0100
TZOFFSETTO:+0200
TZNAME:CEST
DTSTART:20250330T010000
END:DAYLIGHT
BEGIN:STANDARD
TZOFFSETFROM:+0200
TZOFFSETTO:+0100
TZNAME:CET
DTSTART:20251026T010000
END:STANDARD
END:VTIMEZONE
BEGIN:VEVENT
DTSTART;TZID=Europe/Berlin:20250919T000000
DTEND;TZID=Europe/Berlin:20250928T000000
DTSTAMP:20260426T035917
CREATED:20250329T115709Z
LAST-MODIFIED:20250329T115709Z
UID:22448-1758240000-1759017600@gvg-grenchen.ch
SUMMARY:HESO
DESCRIPTION:Infos folgen
URL:https://gvg-grenchen.ch/veranstaltung/heso-2025/
CATEGORIES:Mitgliederanlass
END:VEVENT
END:VCALENDAR