BEGIN:VCALENDAR
VERSION:2.0
PRODID:-//GVG Grenchen - ECPv6.0.5//NONSGML v1.0//EN
CALSCALE:GREGORIAN
METHOD:PUBLISH
X-ORIGINAL-URL:https://gvg-grenchen.ch
X-WR-CALDESC:Veranstaltungen für GVG Grenchen
REFRESH-INTERVAL;VALUE=DURATION:PT1H
X-Robots-Tag:noindex
X-PUBLISHED-TTL:PT1H
BEGIN:VTIMEZONE
TZID:Europe/Berlin
BEGIN:DAYLIGHT
TZOFFSETFROM:+0100
TZOFFSETTO:+0200
TZNAME:CEST
DTSTART:20250330T010000
END:DAYLIGHT
BEGIN:STANDARD
TZOFFSETFROM:+0200
TZOFFSETTO:+0100
TZNAME:CET
DTSTART:20251026T010000
END:STANDARD
END:VTIMEZONE
BEGIN:VEVENT
DTSTART;TZID=Europe/Berlin:20250811T000000
DTEND;TZID=Europe/Berlin:20250905T000000
DTSTAMP:20260426T022806
CREATED:20250329T115433Z
LAST-MODIFIED:20250802T071751Z
UID:22446-1754870400-1757030400@gvg-grenchen.ch
SUMMARY:Kunstfenster / Künstlerbegegnungen
DESCRIPTION:Rund um die Kulturnacht bietet das Grenchner Gewerbe regionalen Künstlern ein Podium\nzum Ausstellen ihrer Werke. Die teilnehmenden Geschäfte stellen dazu ihre Schaufenster\, ihre\nLadenflächen und Eingangshallen zur Verfügung. Interessierten wird an einer Künstlerbegegnung\ndie Gelegenheit für eine direkte Begegnung mit den Kunstschaffenden geboten. Diese öffentlichen Künstlerbegegnungen sind eine grossartige Gelegenheit\, um mit den Kunstschaffenden und anderen Kunstinteressierten in Kontakt zu kommen. Alle sind herzlich eingeladen. Kommen Sie vorbei und lassen Sie sich inspirieren. Keine Anmeldung erforderlich. Wir freuen uns auf Ihren Besuch. \n  \nProgramm der “Kunstfenster & Künstlerbegegnungen” 2025 \n \n\n\n\n\n[button title=”Hier geht’s zum Programm der Kulturnacht 2025″ link=”https://gvg-grenchen.ch/wp-content/uploads/kulturnacht_programm_1706_.pdf” icon=”steadysets-icon-type” align=”center”]\n\n\n\n\nkulturnacht-grenchen.ch\n  \nImpressionen der Künstlerbegegnungen 2023: \n«Kunst­fenster» – eine Aktion des Gren­chner Gewerbes \n \n 
URL:https://gvg-grenchen.ch/veranstaltung/kunstfenster-2025/
CATEGORIES:Mitgliederanlass
END:VEVENT
END:VCALENDAR